BEGIN:VCALENDAR
VERSION:2.0
PRODID:-//Shaw-cum-Donnington Parish Council - ECPv6.15.20//NONSGML v1.0//EN
CALSCALE:GREGORIAN
METHOD:PUBLISH
X-ORIGINAL-URL:https://shawcumdonningtonparish.gov.uk
X-WR-CALDESC:Events for Shaw-cum-Donnington Parish Council
REFRESH-INTERVAL;VALUE=DURATION:PT1H
X-Robots-Tag:noindex
X-PUBLISHED-TTL:PT1H
BEGIN:VTIMEZONE
TZID:Europe/London
BEGIN:DAYLIGHT
TZOFFSETFROM:+0000
TZOFFSETTO:+0100
TZNAME:BST
DTSTART:20240331T010000
END:DAYLIGHT
BEGIN:STANDARD
TZOFFSETFROM:+0100
TZOFFSETTO:+0000
TZNAME:GMT
DTSTART:20241027T010000
END:STANDARD
BEGIN:DAYLIGHT
TZOFFSETFROM:+0000
TZOFFSETTO:+0100
TZNAME:BST
DTSTART:20250330T010000
END:DAYLIGHT
BEGIN:STANDARD
TZOFFSETFROM:+0100
TZOFFSETTO:+0000
TZNAME:GMT
DTSTART:20251026T010000
END:STANDARD
BEGIN:DAYLIGHT
TZOFFSETFROM:+0000
TZOFFSETTO:+0100
TZNAME:BST
DTSTART:20260329T010000
END:DAYLIGHT
BEGIN:STANDARD
TZOFFSETFROM:+0100
TZOFFSETTO:+0000
TZNAME:GMT
DTSTART:20261025T010000
END:STANDARD
END:VTIMEZONE
BEGIN:VEVENT
DTSTART;TZID=Europe/London:20250622T120000
DTEND;TZID=Europe/London:20250622T160000
DTSTAMP:20260420T213219
CREATED:20250611T151217Z
LAST-MODIFIED:20250611T151444Z
UID:6820-1750593600-1750608000@shawcumdonningtonparish.gov.uk
SUMMARY:Donnington Village Fête - Bring a picnic!
DESCRIPTION:Donnington \nVillage Fête \nSunday 22rd June 2025 \n12.00 Noon to 4.00pm\nat Donnington Recreation Ground \nBring a picnic! \nFree Bouncy Castle and children’s activities Vintage cars\, garden show*\, fun dog show from 2.30pm*\, \nSouth Berks Concert Band 12.20-2.10pm \nScout BBQ\, WI cake stall\, ice cream van and more! \nTea\, coffee and squash provided free of charge \nRelax and enjoy an afternoon of traditional fun with the community of Shaw-cum-Donnington!\n* competition entry details will be available nearer the time \nLimited car parking on Recreation Ground\n(accessed from Castle Lane) \nPlease walk if you can \nOrganised by Shaw-cum-Donnington Parish Council \nwww.shawcumdonningtonparish.gov.uk
URL:https://shawcumdonningtonparish.gov.uk/event/donnington-village-fete-bring-a-picnic
LOCATION:Donnington Recreation
CATEGORIES:Local Events
END:VEVENT
BEGIN:VEVENT
DTSTART;TZID=Europe/London:20250622T120000
DTEND;TZID=Europe/London:20250622T160000
DTSTAMP:20260420T213219
CREATED:20250611T151346Z
LAST-MODIFIED:20250611T151346Z
UID:6826-1750593600-1750608000@shawcumdonningtonparish.gov.uk
SUMMARY:Donnington Village Fête - Fun Dog Show
DESCRIPTION:Donnington Village Fête \nSunday 22nd June 2025 \n12.00 Noon to 4.00pm \nat Donnington Recreation Ground \nFun Dog Show \nSponsored by Doggy Daze Treats \n£2 per entry (proceeds to Forever Hounds Trust) \nGoody bags for all entrants and prizes for winners! \nCategories are ‘Waggiest Tail’\, ‘Most Handsome Boy’\, ‘Prettiest Lady’\, ‘Best Rescue Dog’\, ‘Veteran’ (7+ years old)\, ‘Best Pedigree Dog’ and ‘Best Crossbreed’ \nEntries on the day only from Noon to 2.30pm \nJudging commences at 2.30pm \nDogs to be kept on a lead at all times \nLimited car parking\, please walk if you can! \nOrganised by Shaw-cum-Donnington Parish Council \nwww.shawcumdonningtonparish.gov.uk
URL:https://shawcumdonningtonparish.gov.uk/event/donnington-village-fete-fun-dog-show
LOCATION:Donnington Recreation Ground
CATEGORIES:Local Events
END:VEVENT
BEGIN:VEVENT
DTSTART;TZID=Europe/London:20250622T120000
DTEND;TZID=Europe/London:20250622T160000
DTSTAMP:20260420T213219
CREATED:20250611T151539Z
LAST-MODIFIED:20250611T151539Z
UID:6835-1750593600-1750608000@shawcumdonningtonparish.gov.uk
SUMMARY:Donnington Village Fête - Garden Show
DESCRIPTION:Donnington Village Fête \nSunday 22nd June 2025 \n12.00 Noon to 4.00pm \nat Donnington Recreation Ground \nGarden Show\nCalling all gardeners and handicrafters! \nBring something you have made or grown: \nFlowers\, Fruit\, Vegetables\, Handicrafts\, Produce Children-make an animal from Vegetables \nBring your lovely items to the Garden Show tent from 12noon to 2pm \nJudging takes place from 2pm Come along and see the entries \nLimited car parking on the rec\, walk if you can! \nFor more details: contact the Parish Clerk Gillian Durrant clerk@shawcumdonningtonparish.gov.uk or 07419 323252 \nOrganised by Shaw-cum-Donnington Parish Council \nwww.shawcumdonnington parish.gov.uk
URL:https://shawcumdonningtonparish.gov.uk/event/donnington-village-fete-garden-show
LOCATION:Donnington Recreation Ground
CATEGORIES:Local Events
END:VEVENT
END:VCALENDAR