BEGIN:VCALENDAR
VERSION:2.0
PRODID:-//Shaw-cum-Donnington Parish Council - ECPv6.15.20//NONSGML v1.0//EN
CALSCALE:GREGORIAN
METHOD:PUBLISH
X-WR-CALNAME:Shaw-cum-Donnington Parish Council
X-ORIGINAL-URL:https://shawcumdonningtonparish.gov.uk
X-WR-CALDESC:Events for Shaw-cum-Donnington Parish Council
REFRESH-INTERVAL;VALUE=DURATION:PT1H
X-Robots-Tag:noindex
X-PUBLISHED-TTL:PT1H
BEGIN:VTIMEZONE
TZID:Europe/London
BEGIN:DAYLIGHT
TZOFFSETFROM:+0000
TZOFFSETTO:+0100
TZNAME:BST
DTSTART:20230326T010000
END:DAYLIGHT
BEGIN:STANDARD
TZOFFSETFROM:+0100
TZOFFSETTO:+0000
TZNAME:GMT
DTSTART:20231029T010000
END:STANDARD
BEGIN:DAYLIGHT
TZOFFSETFROM:+0000
TZOFFSETTO:+0100
TZNAME:BST
DTSTART:20240331T010000
END:DAYLIGHT
BEGIN:STANDARD
TZOFFSETFROM:+0100
TZOFFSETTO:+0000
TZNAME:GMT
DTSTART:20241027T010000
END:STANDARD
BEGIN:DAYLIGHT
TZOFFSETFROM:+0000
TZOFFSETTO:+0100
TZNAME:BST
DTSTART:20250330T010000
END:DAYLIGHT
BEGIN:STANDARD
TZOFFSETFROM:+0100
TZOFFSETTO:+0000
TZNAME:GMT
DTSTART:20251026T010000
END:STANDARD
BEGIN:DAYLIGHT
TZOFFSETFROM:+0000
TZOFFSETTO:+0100
TZNAME:BST
DTSTART:20260329T010000
END:DAYLIGHT
BEGIN:STANDARD
TZOFFSETFROM:+0100
TZOFFSETTO:+0000
TZNAME:GMT
DTSTART:20261025T010000
END:STANDARD
BEGIN:DAYLIGHT
TZOFFSETFROM:+0000
TZOFFSETTO:+0100
TZNAME:BST
DTSTART:20270328T010000
END:DAYLIGHT
BEGIN:STANDARD
TZOFFSETFROM:+0100
TZOFFSETTO:+0000
TZNAME:GMT
DTSTART:20271031T010000
END:STANDARD
END:VTIMEZONE
BEGIN:VEVENT
DTSTART;TZID=Europe/London:20260318T193000
DTEND;TZID=Europe/London:20260318T193000
DTSTAMP:20260422T231519
CREATED:20251215T134110Z
LAST-MODIFIED:20260403T133305Z
UID:111225-1773862200-1773862200@shawcumdonningtonparish.gov.uk
SUMMARY:Parish Council Meeting
DESCRIPTION:This meeting will be held at Shaw-cum-Donnington Village Hall. Members of the public are welcome to attend; please see the agenda for more details.
URL:https://shawcumdonningtonparish.gov.uk/event/parish-council-meeting-80
LOCATION:Shaw-cum-Donnington Village Hall
CATEGORIES:Parish Council Meetings
END:VEVENT
BEGIN:VEVENT
DTSTART;TZID=Europe/London:20260218T193000
DTEND;TZID=Europe/London:20260218T193000
DTSTAMP:20260422T231519
CREATED:20251215T134033Z
LAST-MODIFIED:20260220T172707Z
UID:111222-1771443000-1771443000@shawcumdonningtonparish.gov.uk
SUMMARY:Parish Council Meeting
DESCRIPTION:This meeting will be held at Shaw-cum-Donnington Village Hall. Members of the public are welcome to attend; please see the agenda for more details.
URL:https://shawcumdonningtonparish.gov.uk/event/parish-council-meeting-79
LOCATION:Shaw-cum-Donnington Village Hall
CATEGORIES:Parish Council Meetings
END:VEVENT
BEGIN:VEVENT
DTSTART;TZID=Europe/London:20260121T193000
DTEND;TZID=Europe/London:20260121T193000
DTSTAMP:20260422T231519
CREATED:20251215T133956Z
LAST-MODIFIED:20260209T125000Z
UID:111219-1769023800-1769023800@shawcumdonningtonparish.gov.uk
SUMMARY:Parish Council Meeting
DESCRIPTION:This meeting will be held at Shaw-cum-Donnington Village Hall. Members of the public are welcome to attend; please see the agenda for more details.
URL:https://shawcumdonningtonparish.gov.uk/event/parish-council-meeting-78
LOCATION:Shaw-cum-Donnington Village Hall
CATEGORIES:Parish Council Meetings
END:VEVENT
BEGIN:VEVENT
DTSTART;TZID=Europe/London:20251217T193000
DTEND;TZID=Europe/London:20251217T193000
DTSTAMP:20260422T231519
CREATED:20250718T094636Z
LAST-MODIFIED:20251218T171641Z
UID:111081-1765999800-1765999800@shawcumdonningtonparish.gov.uk
SUMMARY:Parish Council Meeting
DESCRIPTION:This meeting will be held at Shaw-cum-Donnington Village Hall. Members of the public are welcome to attend; please see the agenda for more details.
URL:https://shawcumdonningtonparish.gov.uk/event/parish-council-meeting-77
LOCATION:Shaw-cum-Donnington Village Hall
CATEGORIES:Parish Council Meetings
END:VEVENT
BEGIN:VEVENT
DTSTART;TZID=Europe/London:20251119T193000
DTEND;TZID=Europe/London:20251119T193000
DTSTAMP:20260422T231519
CREATED:20250718T094606Z
LAST-MODIFIED:20251121T153421Z
UID:111078-1763580600-1763580600@shawcumdonningtonparish.gov.uk
SUMMARY:Parish Council Meeting
DESCRIPTION:This meeting will be held at Shaw-cum-Donnington Village Hall. Members of the public are welcome to attend; please see the agenda for more details.
URL:https://shawcumdonningtonparish.gov.uk/event/parish-council-meeting-76
LOCATION:Shaw-cum-Donnington Village Hall
CATEGORIES:Parish Council Meetings
END:VEVENT
BEGIN:VEVENT
DTSTART;TZID=Europe/London:20251101T100000
DTEND;TZID=Europe/London:20251101T120000
DTSTAMP:20260422T231519
CREATED:20251014T161101Z
LAST-MODIFIED:20251014T161101Z
UID:111138-1761991200-1761998400@shawcumdonningtonparish.gov.uk
SUMMARY:Autumn Litter Pick
DESCRIPTION:
URL:https://shawcumdonningtonparish.gov.uk/event/autumn-litter-pick
LOCATION:Shaw Church Car Park\, Church Road\, Newbury\, West Berkshire\, RG14 2DR\, United Kingdom
END:VEVENT
BEGIN:VEVENT
DTSTART;TZID=Europe/London:20251018T100000
DTEND;TZID=Europe/London:20251018T120000
DTSTAMP:20260422T231519
CREATED:20251014T161350Z
LAST-MODIFIED:20251014T161350Z
UID:111141-1760781600-1760788800@shawcumdonningtonparish.gov.uk
SUMMARY:Litter Pick Postponed
DESCRIPTION:The litter pick advertised in the newsletter has been postponed until Saturday 1 November from 10am till noon\, from Shaw Church Car Park.  We hope to see you there!
URL:https://shawcumdonningtonparish.gov.uk/event/litter-pick-postponed
LOCATION:Shaw Church Car Park\, Church Road\, Newbury\, West Berkshire\, RG14 2DR\, United Kingdom
END:VEVENT
BEGIN:VEVENT
DTSTART;TZID=Europe/London:20251015T193000
DTEND;TZID=Europe/London:20251015T193000
DTSTAMP:20260422T231519
CREATED:20250718T094534Z
LAST-MODIFIED:20251023T122104Z
UID:111075-1760556600-1760556600@shawcumdonningtonparish.gov.uk
SUMMARY:Parish Council Meeting
DESCRIPTION:This meeting will be held at Shaw-cum-Donnington Village Hall. Members of the public are welcome to attend; please see the agenda for more details.
URL:https://shawcumdonningtonparish.gov.uk/event/parish-council-meeting-75
LOCATION:Shaw-cum-Donnington Village Hall
CATEGORIES:Parish Council Meetings
END:VEVENT
BEGIN:VEVENT
DTSTART;TZID=Europe/London:20250917T193000
DTEND;TZID=Europe/London:20250917T193000
DTSTAMP:20260422T231519
CREATED:20250718T094421Z
LAST-MODIFIED:20250919T160124Z
UID:111071-1758137400-1758137400@shawcumdonningtonparish.gov.uk
SUMMARY:Parish Council Meeting
DESCRIPTION:This meeting will be held at Shaw-cum-Donnington Village Hall. Members of the public are welcome to attend; please see the agenda for more details.
URL:https://shawcumdonningtonparish.gov.uk/event/111071
LOCATION:Shaw-cum-Donnington Village Hall
CATEGORIES:Parish Council Meetings
END:VEVENT
BEGIN:VEVENT
DTSTART;TZID=Europe/London:20250716T193000
DTEND;TZID=Europe/London:20250716T193000
DTSTAMP:20260422T231519
CREATED:20250410T144453Z
LAST-MODIFIED:20250717T084457Z
UID:6720-1752694200-1752694200@shawcumdonningtonparish.gov.uk
SUMMARY:Parish Council Meeting
DESCRIPTION:This meeting will be held at Shaw-cum-Donnington Village Hall. Members of the public are welcome to attend; please see the agenda for more details.
URL:https://shawcumdonningtonparish.gov.uk/event/parish-council-meeting-74
LOCATION:Shaw-cum-Donnington Village Hall
CATEGORIES:Parish Council Meetings
END:VEVENT
BEGIN:VEVENT
DTSTART;TZID=Europe/London:20250622T120000
DTEND;TZID=Europe/London:20250622T160000
DTSTAMP:20260422T231519
CREATED:20250611T151539Z
LAST-MODIFIED:20250611T151539Z
UID:6835-1750593600-1750608000@shawcumdonningtonparish.gov.uk
SUMMARY:Donnington Village Fête - Garden Show
DESCRIPTION:Donnington Village Fête \nSunday 22nd June 2025 \n12.00 Noon to 4.00pm \nat Donnington Recreation Ground \nGarden Show\nCalling all gardeners and handicrafters! \nBring something you have made or grown: \nFlowers\, Fruit\, Vegetables\, Handicrafts\, Produce Children-make an animal from Vegetables \nBring your lovely items to the Garden Show tent from 12noon to 2pm \nJudging takes place from 2pm Come along and see the entries \nLimited car parking on the rec\, walk if you can! \nFor more details: contact the Parish Clerk Gillian Durrant clerk@shawcumdonningtonparish.gov.uk or 07419 323252 \nOrganised by Shaw-cum-Donnington Parish Council \nwww.shawcumdonnington parish.gov.uk
URL:https://shawcumdonningtonparish.gov.uk/event/donnington-village-fete-garden-show
LOCATION:Donnington Recreation Ground
CATEGORIES:Local Events
END:VEVENT
BEGIN:VEVENT
DTSTART;TZID=Europe/London:20250622T120000
DTEND;TZID=Europe/London:20250622T160000
DTSTAMP:20260422T231519
CREATED:20250611T151346Z
LAST-MODIFIED:20250611T151346Z
UID:6826-1750593600-1750608000@shawcumdonningtonparish.gov.uk
SUMMARY:Donnington Village Fête - Fun Dog Show
DESCRIPTION:Donnington Village Fête \nSunday 22nd June 2025 \n12.00 Noon to 4.00pm \nat Donnington Recreation Ground \nFun Dog Show \nSponsored by Doggy Daze Treats \n£2 per entry (proceeds to Forever Hounds Trust) \nGoody bags for all entrants and prizes for winners! \nCategories are ‘Waggiest Tail’\, ‘Most Handsome Boy’\, ‘Prettiest Lady’\, ‘Best Rescue Dog’\, ‘Veteran’ (7+ years old)\, ‘Best Pedigree Dog’ and ‘Best Crossbreed’ \nEntries on the day only from Noon to 2.30pm \nJudging commences at 2.30pm \nDogs to be kept on a lead at all times \nLimited car parking\, please walk if you can! \nOrganised by Shaw-cum-Donnington Parish Council \nwww.shawcumdonningtonparish.gov.uk
URL:https://shawcumdonningtonparish.gov.uk/event/donnington-village-fete-fun-dog-show
LOCATION:Donnington Recreation Ground
CATEGORIES:Local Events
END:VEVENT
BEGIN:VEVENT
DTSTART;TZID=Europe/London:20250622T120000
DTEND;TZID=Europe/London:20250622T160000
DTSTAMP:20260422T231519
CREATED:20250611T151217Z
LAST-MODIFIED:20250611T151444Z
UID:6820-1750593600-1750608000@shawcumdonningtonparish.gov.uk
SUMMARY:Donnington Village Fête - Bring a picnic!
DESCRIPTION:Donnington \nVillage Fête \nSunday 22rd June 2025 \n12.00 Noon to 4.00pm\nat Donnington Recreation Ground \nBring a picnic! \nFree Bouncy Castle and children’s activities Vintage cars\, garden show*\, fun dog show from 2.30pm*\, \nSouth Berks Concert Band 12.20-2.10pm \nScout BBQ\, WI cake stall\, ice cream van and more! \nTea\, coffee and squash provided free of charge \nRelax and enjoy an afternoon of traditional fun with the community of Shaw-cum-Donnington!\n* competition entry details will be available nearer the time \nLimited car parking on Recreation Ground\n(accessed from Castle Lane) \nPlease walk if you can \nOrganised by Shaw-cum-Donnington Parish Council \nwww.shawcumdonningtonparish.gov.uk
URL:https://shawcumdonningtonparish.gov.uk/event/donnington-village-fete-bring-a-picnic
LOCATION:Donnington Recreation
CATEGORIES:Local Events
END:VEVENT
BEGIN:VEVENT
DTSTART;TZID=Europe/London:20250618T193000
DTEND;TZID=Europe/London:20250618T193000
DTSTAMP:20260422T231519
CREATED:20250410T144355Z
LAST-MODIFIED:20250619T144518Z
UID:6717-1750275000-1750275000@shawcumdonningtonparish.gov.uk
SUMMARY:Parish Council Meeting
DESCRIPTION:This meeting will be held at Shaw-cum-Donnington Village Hall. Members of the public are welcome to attend; please see the agenda for more details.
URL:https://shawcumdonningtonparish.gov.uk/event/parish-council-meeting-73
LOCATION:Shaw-cum-Donnington Village Hall
CATEGORIES:Parish Council Meetings
END:VEVENT
BEGIN:VEVENT
DTSTART;TZID=Europe/London:20250521T193000
DTEND;TZID=Europe/London:20250521T193000
DTSTAMP:20260422T231519
CREATED:20250213T105435Z
LAST-MODIFIED:20250615T122835Z
UID:6586-1747855800-1747855800@shawcumdonningtonparish.gov.uk
SUMMARY:Parish Council Meeting
DESCRIPTION:This meeting will be held at Shaw-cum-Donnington Village Hall. Members of the public are welcome to attend; please see the agenda for more details.
URL:https://shawcumdonningtonparish.gov.uk/event/parish-council-meeting-72
LOCATION:Shaw-cum-Donnington Village Hall
CATEGORIES:Parish Council Meetings
END:VEVENT
BEGIN:VEVENT
DTSTART;TZID=Europe/London:20250508T200000
DTEND;TZID=Europe/London:20250508T220000
DTSTAMP:20260422T231519
CREATED:20250425T074328Z
LAST-MODIFIED:20250428T140810Z
UID:6749-1746734400-1746741600@shawcumdonningtonparish.gov.uk
SUMMARY:VE80 Beacon Lighting at Donnington Castle
DESCRIPTION:Join us to celebrate 80 years since the end of the Second World War in Europe.  From 8pm ‘Off the Scale’ Fish and Chip van will be in the car park of the castle\, so you have an opportunity to buy a Fish and Chip supper as part of the National celebrations before we light the beacon at 9.30pm.  Just beforehand there will be the National proclamation\, and afterwards an opportunity to sing along to some well known wartime songs. \nThis year we have a new brazier style beacon\, which will look wonderful in the setting of the castle ruins. \nThe event is weather dependant\, and won’t go ahead if the winds are very strong\, or it is raining. \nPlease walk to the castle if you can as parking is very limited.  The Parish Council will leave the gates open in the ‘top’ car park of Donnington Recreation Ground accessed from Castle Lane\, but the gates will be locked again after 10.30pm\, so please don’t leave your car there after that! \n 
URL:https://shawcumdonningtonparish.gov.uk/event/ve80-beacon-lighting-at-donnington-castle
LOCATION:Donnington Castle\, Castle Lane\, Donnington
CATEGORIES:Local Events
ATTACH;FMTTYPE=image/jpeg:https://shawcumdonningtonparish.gov.uk/wp-content/uploads/2025/04/Beacon-Lighting-poster-2025.jpg
END:VEVENT
BEGIN:VEVENT
DTSTART;TZID=Europe/London:20250507T193000
DTEND;TZID=Europe/London:20250507T193000
DTSTAMP:20260422T231519
CREATED:20250213T105220Z
LAST-MODIFIED:20251106T134148Z
UID:6580-1746646200-1746646200@shawcumdonningtonparish.gov.uk
SUMMARY:Annual Parish Meeting
DESCRIPTION:
URL:https://shawcumdonningtonparish.gov.uk/event/annual-parish-meeting
LOCATION:Shaw-cum-Donnington Village Hall
CATEGORIES:Parish Council Meetings
END:VEVENT
BEGIN:VEVENT
DTSTART;TZID=Europe/London:20250416T193000
DTEND;TZID=Europe/London:20250416T193000
DTSTAMP:20260422T231519
CREATED:20250213T105321Z
LAST-MODIFIED:20250418T082034Z
UID:6583-1744831800-1744831800@shawcumdonningtonparish.gov.uk
SUMMARY:Parish Council Meeting
DESCRIPTION:This meeting will be held at Shaw-cum-Donnington Village Hall. Members of the public are welcome to attend; please see the agenda for more details.
URL:https://shawcumdonningtonparish.gov.uk/event/parish-council-meeting-71
LOCATION:Shaw-cum-Donnington Village Hall
CATEGORIES:Parish Council Meetings
END:VEVENT
BEGIN:VEVENT
DTSTART;TZID=Europe/London:20250319T193000
DTEND;TZID=Europe/London:20250319T193000
DTSTAMP:20260422T231519
CREATED:20241221T093854Z
LAST-MODIFIED:20250320T155246Z
UID:6432-1742412600-1742412600@shawcumdonningtonparish.gov.uk
SUMMARY:Parish Council Meeting
DESCRIPTION:This meeting will be held at Shaw-cum-Donnington Village Hall. Members of the public are welcome to attend; please see the agenda for more details.
URL:https://shawcumdonningtonparish.gov.uk/event/parish-council-meeting-70
LOCATION:Shaw-cum-Donnington Village Hall
CATEGORIES:Parish Council Meetings
END:VEVENT
BEGIN:VEVENT
DTSTART;TZID=Europe/London:20250219T193000
DTEND;TZID=Europe/London:20250219T193000
DTSTAMP:20260422T231519
CREATED:20241221T094053Z
LAST-MODIFIED:20250224T164828Z
UID:6437-1739993400-1739993400@shawcumdonningtonparish.gov.uk
SUMMARY:Parish Council Meeting
DESCRIPTION:This meeting will be held at Shaw-cum-Donnington Village Hall. Members of the public are welcome to attend; please see the agenda for more details.
URL:https://shawcumdonningtonparish.gov.uk/event/parish-council-meeting-69
LOCATION:Shaw-cum-Donnington Village Hall
CATEGORIES:Parish Council Meetings
END:VEVENT
BEGIN:VEVENT
DTSTART;TZID=Europe/London:20250115T193000
DTEND;TZID=Europe/London:20250115T193000
DTSTAMP:20260422T231519
CREATED:20241114T145713Z
LAST-MODIFIED:20250124T110702Z
UID:6329-1736969400-1736969400@shawcumdonningtonparish.gov.uk
SUMMARY:Parish Council Meeting
DESCRIPTION:This meeting will be held at Shaw-cum-Donnington Village Hall. Members of the public are welcome to attend; please see the agenda for more details.
URL:https://shawcumdonningtonparish.gov.uk/event/parish-council-meeting-68
LOCATION:Shaw-cum-Donnington Village Hall
CATEGORIES:Parish Council Meetings
END:VEVENT
BEGIN:VEVENT
DTSTART;TZID=Europe/London:20241218T193000
DTEND;TZID=Europe/London:20241218T193000
DTSTAMP:20260422T231519
CREATED:20241114T145625Z
LAST-MODIFIED:20250102T095208Z
UID:6326-1734550200-1734550200@shawcumdonningtonparish.gov.uk
SUMMARY:Parish Council Meeting
DESCRIPTION:This meeting will be held at Shaw-cum-Donnington Village Hall. Members of the public are welcome to attend; please see the agenda for more details.
URL:https://shawcumdonningtonparish.gov.uk/event/parish-council-meeting-67
LOCATION:Shaw-cum-Donnington Village Hall
CATEGORIES:Parish Council Meetings
END:VEVENT
BEGIN:VEVENT
DTSTART;TZID=Europe/London:20241120T193000
DTEND;TZID=Europe/London:20241120T193000
DTSTAMP:20260422T231519
CREATED:20241010T101740Z
LAST-MODIFIED:20241121T132619Z
UID:6227-1732131000-1732131000@shawcumdonningtonparish.gov.uk
SUMMARY:Parish Council Meeting
DESCRIPTION:This meeting will be held at Shaw-cum-Donnington Village Hall. Members of the public are welcome to attend; please see the agenda for more details.
URL:https://shawcumdonningtonparish.gov.uk/event/parish-council-meeting-66
LOCATION:Shaw-cum-Donnington Village Hall
CATEGORIES:Parish Council Meetings
END:VEVENT
BEGIN:VEVENT
DTSTART;TZID=Europe/London:20241016T193000
DTEND;TZID=Europe/London:20241016T193000
DTSTAMP:20260422T231519
CREATED:20240909T152053Z
LAST-MODIFIED:20241119T172832Z
UID:6127-1729107000-1729107000@shawcumdonningtonparish.gov.uk
SUMMARY:Parish Council Meeting
DESCRIPTION:This meeting will be held at Shaw-cum-Donnington Village Hall. Members of the public are welcome to attend; please see the agenda for more details.
URL:https://shawcumdonningtonparish.gov.uk/event/parish-council-meeting-65
LOCATION:Shaw-cum-Donnington Village Hall
CATEGORIES:Parish Council Meetings
END:VEVENT
BEGIN:VEVENT
DTSTART;TZID=Europe/London:20240918T193000
DTEND;TZID=Europe/London:20240918T193000
DTSTAMP:20260422T231519
CREATED:20240909T151953Z
LAST-MODIFIED:20240919T125857Z
UID:6124-1726687800-1726687800@shawcumdonningtonparish.gov.uk
SUMMARY:Parish Council Meeting
DESCRIPTION:This meeting will be held at Shaw-cum-Donnington Village Hall. Members of the public are welcome to attend; please see the agenda for more details.
URL:https://shawcumdonningtonparish.gov.uk/event/parish-council-meeting-64
LOCATION:Shaw-cum-Donnington Village Hall
CATEGORIES:Parish Council Meetings
END:VEVENT
BEGIN:VEVENT
DTSTART;TZID=Europe/London:20240717T193000
DTEND;TZID=Europe/London:20240717T193000
DTSTAMP:20260422T231519
CREATED:20240613T141840Z
LAST-MODIFIED:20240718T073643Z
UID:5899-1721244600-1721244600@shawcumdonningtonparish.gov.uk
SUMMARY:Parish Council Meeting
DESCRIPTION:This meeting will be held at Shaw-cum-Donnington Village Hall. Members of the public are welcome to attend; please see the agenda for more details.
URL:https://shawcumdonningtonparish.gov.uk/event/5899
LOCATION:Shaw-cum-Donnington Village Hall
CATEGORIES:Parish Council Meetings
END:VEVENT
BEGIN:VEVENT
DTSTART;TZID=Europe/London:20240623T120000
DTEND;TZID=Europe/London:20240623T160000
DTSTAMP:20260422T231519
CREATED:20240325T141754Z
LAST-MODIFIED:20240510T092532Z
UID:5615-1719144000-1719158400@shawcumdonningtonparish.gov.uk
SUMMARY:Donnington Village Fete
DESCRIPTION:
URL:https://shawcumdonningtonparish.gov.uk/event/donnington-village-fete
CATEGORIES:Local Events
END:VEVENT
BEGIN:VEVENT
DTSTART;TZID=Europe/London:20240619T193000
DTEND;TZID=Europe/London:20240619T193000
DTSTAMP:20260422T231519
CREATED:20240507T112732Z
LAST-MODIFIED:20240621T101914Z
UID:5773-1718825400-1718825400@shawcumdonningtonparish.gov.uk
SUMMARY:Parish Council Meeting
DESCRIPTION:This meeting will be held at Shaw-cum-Donnington Village Hall. Members of the public are welcome to attend; please see the agenda for more details.
URL:https://shawcumdonningtonparish.gov.uk/event/parish-council-meeting-63
LOCATION:Shaw-cum-Donnington Village Hall
CATEGORIES:Parish Council Meetings
END:VEVENT
BEGIN:VEVENT
DTSTART;TZID=Europe/London:20240606T211500
DTEND;TZID=Europe/London:20240606T214500
DTSTAMP:20260422T231519
CREATED:20240507T112110Z
LAST-MODIFIED:20240507T112110Z
UID:5765-1717708500-1717710300@shawcumdonningtonparish.gov.uk
SUMMARY:Beacon Lighting - Celebrating 80 years since D-Day
DESCRIPTION:  All are welcome to the beacon lighting at Donnington Castle.  The beacon will be lit at 9.15pm\, simultaneously with all the other beacons in the UK\, and a tribute will be read for all of those who took part in D-Day 80 years ago. \nPlease walk to the castle if you can as there are very few places to park at the castle\, and bring a torch for the walk back to the village afterwards.
URL:https://shawcumdonningtonparish.gov.uk/event/beacon-lighting-celebrating-80-years-since-d-day
LOCATION:Donnington Castle\, Castle Lane\, Donnington
END:VEVENT
BEGIN:VEVENT
DTSTART;TZID=Europe/London:20240515T193000
DTEND;TZID=Europe/London:20240515T193000
DTSTAMP:20260422T231519
CREATED:20240507T112544Z
LAST-MODIFIED:20240516T122146Z
UID:5770-1715801400-1715801400@shawcumdonningtonparish.gov.uk
SUMMARY:Parish Council Meeting
DESCRIPTION:This meeting will be held at Shaw-cum-Donnington Village Hall. Members of the public are welcome to attend; please see the agenda for more details.
URL:https://shawcumdonningtonparish.gov.uk/event/parish-council-meeting-62
LOCATION:Shaw-cum-Donnington Village Hall
CATEGORIES:Parish Council Meetings
END:VEVENT
END:VCALENDAR